BEGIN:VCALENDAR
VERSION:2.0
PRODID:-//Plone.org//NONSGML plone.app.event//EN
X-WR-TIMEZONE:US/Eastern
BEGIN:VEVENT
SUMMARY:Halloween Spookacular
DTSTART;TZID=US/Eastern:20171013T170000
DTEND;TZID=US/Eastern:20171013T184500
DTSTAMP:20260423T135853Z
UID:b6056ed3d5cd427d99758eb3fa0f256c@saas_stack_varnish:6080
CREATED:20170821T190618Z
DESCRIPTION:Wanda the Wacky Witch\nHalloween Magic Show
LAST-MODIFIED:20170919T134347Z
URL:https://www.fairgrove.michlibrary.org/halloween-spookacular
END:VEVENT
BEGIN:VTIMEZONE
TZID:US/Eastern
X-LIC-LOCATION:US/Eastern
BEGIN:DAYLIGHT
DTSTART:20170312T030000
TZNAME:EDT
TZOFFSETFROM:-0500
TZOFFSETTO:-0400
END:DAYLIGHT
END:VTIMEZONE
END:VCALENDAR
